BEGIN:VCALENDAR
VERSION:2.0
PRODID:-//nexac-campus - ECPv6.2.9//NONSGML v1.0//EN
CALSCALE:GREGORIAN
METHOD:PUBLISH
X-ORIGINAL-URL:https://nexac-campus.de
X-WR-CALDESC:Veranstaltungen für nexac-campus
REFRESH-INTERVAL;VALUE=DURATION:PT1H
X-Robots-Tag:noindex
X-PUBLISHED-TTL:PT1H
BEGIN:VTIMEZONE
TZID:Europe/Berlin
BEGIN:DAYLIGHT
TZOFFSETFROM:+0100
TZOFFSETTO:+0200
TZNAME:CEST
DTSTART:20240331T010000
END:DAYLIGHT
BEGIN:STANDARD
TZOFFSETFROM:+0200
TZOFFSETTO:+0100
TZNAME:CET
DTSTART:20241027T010000
END:STANDARD
BEGIN:DAYLIGHT
TZOFFSETFROM:+0100
TZOFFSETTO:+0200
TZNAME:CEST
DTSTART:20250330T010000
END:DAYLIGHT
BEGIN:STANDARD
TZOFFSETFROM:+0200
TZOFFSETTO:+0100
TZNAME:CET
DTSTART:20251026T010000
END:STANDARD
END:VTIMEZONE
BEGIN:VEVENT
DTSTART;TZID=Europe/Berlin:20251203T140000
DTEND;TZID=Europe/Berlin:20251203T190000
DTSTAMP:20260421T173722
CREATED:20250809T100006Z
LAST-MODIFIED:20250809T100201Z
UID:10000038-1764770400-1764788400@nexac-campus.de
SUMMARY:Zahntrauma: aktuell - effektiv - praxisbezogen
DESCRIPTION:Das beliebte Online-Seminar mit Prof. Dr. Andreas Filippi geht im September in die nächste Runde. Gerade im zahnärztlichen Notfalldienst kommt es immer wieder zu Situationen\, die im regulären Praxisalltag kaum vorkommen – schnelle Entscheidungen und fundiertes Wissen sind dann besonders wichtig. Prof. Dr. Filippi von der Universität Basel führt Sie anschaulich\, praxisnah und mit vielen Fallbeispielen durch das Live-Online-Seminar. Er bereitet Sie gezielt auf häufige Notfallszenarien vor – von der richtigen Einschätzung bis zur souveränen Erstversorgung.
URL:https://nexac-campus.de/event/zahntrauma-aktuell-effektiv-praxisbezogen/
LOCATION:online
CATEGORIES:Zahnmedizin
ATTACH;FMTTYPE=image/jpeg:https://nexac-campus.de/wp-content/uploads/2025/07/Zahntrauma-1.jpg
ORGANIZER;CN="%E2%80%8E nexac dental communications":MAILTO:goesling@nexac.de
END:VEVENT
BEGIN:VEVENT
DTSTART;TZID=Europe/Berlin:20250903T140000
DTEND;TZID=Europe/Berlin:20250903T190000
DTSTAMP:20260421T173722
CREATED:20250802T122431Z
LAST-MODIFIED:20250802T123229Z
UID:10000034-1756908000-1756926000@nexac-campus.de
SUMMARY:Fit für den zahnärztlichen Notfalldienst
DESCRIPTION:Fit für den zahnärztlichen Notfalldienst: aktuell – effektiv – praxisbezogen\n\n\nDas beliebte Online-Seminar mit Prof. Dr. Andreas Filippi geht im September in die nächste Runde. Gerade im zahnärztlichen Notfalldienst kommt es immer wieder zu Situationen\, die im regulären Praxisalltag kaum vorkommen – schnelle Entscheidungen und fundiertes Wissen sind dann besonders wichtig. Prof. Dr. Filippi von der Universität Basel führt Sie anschaulich\, praxisnah und mit vielen Fallbeispielen durch das Live-Online-Seminar. Er bereitet Sie gezielt auf häufige Notfallszenarien vor – von der richtigen Einschätzung bis zur souveränen Erstversorgung.
URL:https://nexac-campus.de/event/fit-fuer-den-zahnaerztlichen-notfalldienst/
LOCATION:online
CATEGORIES:Zahnmedizin
ATTACH;FMTTYPE=image/jpeg:https://nexac-campus.de/wp-content/uploads/2023/12/25-06-Filippi-Notdienst-Header-Webseite.jpg
ORGANIZER;CN="%E2%80%8E nexac dental communications":MAILTO:goesling@nexac.de
END:VEVENT
BEGIN:VEVENT
DTSTART;VALUE=DATE:20241130
DTEND;VALUE=DATE:20241201
DTSTAMP:20260421T173722
CREATED:20240411T102509Z
LAST-MODIFIED:20240416T155512Z
UID:10000028-1732924800-1733011199@nexac-campus.de
SUMMARY:Okklusionsschienen zur Behandlung von CMD und zur präprothetischen Therapie
DESCRIPTION:Die Okklusionsschienentherapie be-sitzt einen hohen Stellenwert innerhalb des interdisziplinären Therapieansatzes bei Vorliegen von craniomandibulären Dysfunktionen und speziell zur Vorbehandlung einer (implantat)-prothetischen Versorgung. \nDer Kurs geht auf die wichtigsten Aspekte der aktuellen AWMF-Leitlinie ein und stellt die theoretischen Grundlagen\, das klinische Vorgehen sowie die zahntechnischen Aspekte der Okklusionsschienentherapie detailliert dar. \nMit Blick auf die zahnärztlichen Behandlungsschritte werden die Themengebiete Abformung\, Oberkiefertransfer\, Kieferrelationsbestimmung\, Eingliederung\, Einschleifmaßnahmen sowie die Nachsorge ausführlich besprochen.
URL:https://nexac-campus.de/event/okklusionsschienen-zur-behandlung-von-cmd-und-zur-praeprothetischen-therapie/
LOCATION:Center of Dental Education\, Fußbergstr. 1\, Gauting\, Bayern\, 82131\, Deutschland
CATEGORIES:Zahnmedizin,Zahntechnik
ATTACH;FMTTYPE=image/jpeg:https://nexac-campus.de/wp-content/uploads/2024/02/Kopie-von-Ottl-Header-1.jpg
ORGANIZER;CN="%E2%80%8E nexac dental communications":MAILTO:goesling@nexac.de
END:VEVENT
BEGIN:VEVENT
DTSTART;VALUE=DATE:20241026
DTEND;VALUE=DATE:20241027
DTSTAMP:20260421T173722
CREATED:20240411T103555Z
LAST-MODIFIED:20240416T160304Z
UID:10000029-1729900800-1729987199@nexac-campus.de
SUMMARY:CMD-Diagnostik - Relevant aus medizinscher und juristischer Sicht:   Wie viel und welche Diagnostik ist nötig?
DESCRIPTION:Die fehlende Detektion und Behandlung einer latenten\, kompensierten CMD vor definitiver Therapie\, wie (Implantat-)Prothetik\, kann zum „Stolperstein“ aus medizinischer und juristischer Sicht (OLG-Urteile) werden. \nInhaltliche Schwerpunkte der Fortbildung stellen die detaillierte Beschreibung des Step-by-Step-Vorgehens beim CMD-Screening\, bei der klinischen Funktionsanalyse und der manuellen Strukturanalyse mit der zugehörigen Interpretation der möglichen Befunde dar.  \nDie systematische Auswertung von Magnetresonanztomogrammen des Kiefergelenkes erfolgt anhand eines standardisierten Befundbogens. \nReferent: Univ.-Prof. Dr. Peter Ottl
URL:https://nexac-campus.de/event/cmd-diagnostik-relevant-aus-medizinscher-und-juristischer-sicht-wie-viel-und-welche-diagnostik-ist-noetig/
LOCATION:Center of Dental Education\, Fußbergstr. 1\, Gauting\, Bayern\, 82131\, Deutschland
CATEGORIES:Zahnmedizin
ATTACH;FMTTYPE=image/jpeg:https://nexac-campus.de/wp-content/uploads/2024/02/Ottl-Header-3.jpg
ORGANIZER;CN="%E2%80%8E nexac dental communications":MAILTO:goesling@nexac.de
END:VEVENT
BEGIN:VEVENT
DTSTART;TZID=Europe/Berlin:20241011T090000
DTEND;TZID=Europe/Berlin:20241011T170000
DTSTAMP:20260421T173722
CREATED:20240415T104633Z
LAST-MODIFIED:20240415T114143Z
UID:10000032-1728637200-1728666000@nexac-campus.de
SUMMARY:Fotografie in der Zahnarztpraxis
DESCRIPTION:Ist Dentalfotografie ein wichtiges Tool oder einfach nur Luxus? Bilder haben eine enorme Wirkung bei der Patientenberatung und beeinflussen den Entscheidungsprozess für eine Behandlung stark. Ebenfalls in der Kommunikation mit dem Dentallabor ist ein Fotostatus unerlässlich. Die Behandlungsdokumentation sollte deshalb ein fester Bestandteil im Praxisablauf jeder Zahnarztpraxis werden. Die Fotografin Katrin Baumann zeigt wie die besten Ergebnisse für alle Bilder erzielt werden.
URL:https://nexac-campus.de/event/fotografie-in-der-zahnarztpraxis/
LOCATION:Dentalmanufaktur\, Antalyastr. 11\, Nürnberg\, Bayern\, 90408
CATEGORIES:Zahnmedizin
ATTACH;FMTTYPE=image/jpeg:https://nexac-campus.de/wp-content/uploads/2023/10/Katrin-Baumann.jpg
ORGANIZER;CN="%E2%80%8E nexac dental communications":MAILTO:goesling@nexac.de
END:VEVENT
BEGIN:VEVENT
DTSTART;VALUE=DATE:20240920
DTEND;VALUE=DATE:20240922
DTSTAMP:20260421T173722
CREATED:20240405T093545Z
LAST-MODIFIED:20240405T102607Z
UID:10000025-1726790400-1726963199@nexac-campus.de
SUMMARY:Wir kreieren Führung neu
DESCRIPTION:Wer in Zukunft als Praxis weiterhin erfolgreich sein möchte\, muss (junge) Mitarbeitenden gewinnen\, halten und empowern. Dafür braucht es eine gute Führungskultur. Mit starren Hierarchien\, veraltetem Führungsstil und Micromanagement kommen Praxen nicht weit. Die Antwort: Modernes\, gesundes & empowerndes Führen. \n6-tägiger Intensiv-Führungsworkshop für Arzt- und Zahnarztpraxen. \nZiel der Führungskräfteentwicklung ist es\, dass die Führungskräfte (ÄrztInnen\, ZahnärztInnen und PraxismanagerInnen) ihr erworbenes Know-how nachhaltig festigen. Deshalb ist zwischen den drei Modulen ausreichend Zeit\, das Gelernte im Alltag umzusetzen und im nächsten Modul zu vertiefen. \nDamit die Trainings möglichst individuell auf die Teilnehmenden zugeschnitten sind\, findet vor dem Start des ersten Moduls ein zweistündiger Online-Workshop statt. In diesem wird die Ist-Situation analysiert und es werden weitere Themen festgelegt. \nNach jedem Modul finden außerdem zweistündige Online-Follow-Up Workshops zur Vertiefung statt. \nWir kreieren mit und für euch gesunde\, empowernde Führung. \nUnsere Mission ist es\, ein neues\, modernes Führungsverständnis in den Praxen und Köpfe zu verankern. Und so Führung für Führungskräfte\, Mitarbeitende und Praxen gesund zu gestalten..
URL:https://nexac-campus.de/event/wir-kreieren-fuehrung-neu/
LOCATION:Digitales Kompetenzzentrum GmbH\, Alfred-Herrhausen-Str. 45\, Witten\, Nordrhein-Westfalen\, 58455\, Deutschland
CATEGORIES:Praxispersonal,Zahnmedizin
ATTACH;FMTTYPE=image/jpeg:https://nexac-campus.de/wp-content/uploads/2023/10/Wir-kreieren-Fuehrung-neu-Instagram-Beitrag-1640-x-600-px.jpg
ORGANIZER;CN="%E2%80%8E nexac dental communications":MAILTO:goesling@nexac.de
END:VEVENT
END:VCALENDAR